BEGIN:VCALENDAR
VERSION:2.0
PRODID:-//County Line Church//Events//EN
CALSCALE:GREGORIAN
METHOD:PUBLISH
BEGIN:VEVENT
UID:9ded7f72f896584febfdcb1fefece9af@countylinechurch.org
DTSTAMP:20260423T104340Z
DTSTART:20260423T183000Z
DTEND:20260423T200000Z
SUMMARY:Grief Share
DESCRIPTION:GriefShare will meet every other Thursday evening at County Line Churchâ€
 ™s main campus.If you have any questions\, please contact Tina Stewart @
  tstewart@countylinechurch.org.&nbsp\;Please enter the doors under the C
 LSM sign (County Line Student Ministries).
LOCATION:Main\, 7716 North County Line Road E Auburn\, IN 46706
URL:https://countylinechurch.churchcenter.com/registrations/events/3165616/reservations/new
STATUS:CONFIRMED
END:VEVENT
BEGIN:VEVENT
UID:eecd84b2418aae7c53d03c8394bf913d@countylinechurch.org
DTSTAMP:20260423T104340Z
DTSTART:20260507T183000Z
DTEND:20260507T200000Z
SUMMARY:Grief Share
DESCRIPTION:GriefShare will meet every other Thursday evening at County Line Churchâ€
 ™s main campus.If you have any questions\, please contact Tina Stewart @
  tstewart@countylinechurch.org.&nbsp\;Please enter the doors under the C
 LSM sign (County Line Student Ministries).
LOCATION:Main\, 7716 North County Line Road E Auburn\, IN 46706
URL:https://countylinechurch.churchcenter.com/registrations/events/3165616/reservations/new
STATUS:CONFIRMED
END:VEVENT
BEGIN:VEVENT
UID:0831e75a26a899032f2d849d0b734f59@countylinechurch.org
DTSTAMP:20260423T104340Z
DTSTART:20260521T183000Z
DTEND:20260521T200000Z
SUMMARY:Grief Share
DESCRIPTION:GriefShare will meet every other Thursday evening at County Line Churchâ€
 ™s main campus.If you have any questions\, please contact Tina Stewart @
  tstewart@countylinechurch.org.&nbsp\;Please enter the doors under the C
 LSM sign (County Line Student Ministries).
LOCATION:Main\, 7716 North County Line Road E Auburn\, IN 46706
URL:https://countylinechurch.churchcenter.com/registrations/events/3165616/reservations/new
STATUS:CONFIRMED
END:VEVENT
BEGIN:VEVENT
UID:5d4b61ffe5181b4ebabf623b939f998c@countylinechurch.org
DTSTAMP:20260423T104340Z
DTSTART:20260604T183000Z
DTEND:20260604T200000Z
SUMMARY:Grief Share
DESCRIPTION:GriefShare will meet every other Thursday evening at County Line Churchâ€
 ™s main campus.If you have any questions\, please contact Tina Stewart @
  tstewart@countylinechurch.org.&nbsp\;Please enter the doors under the C
 LSM sign (County Line Student Ministries).
LOCATION:Main\, 7716 North County Line Road E Auburn\, IN 46706
URL:https://countylinechurch.churchcenter.com/registrations/events/3165616/reservations/new
STATUS:CONFIRMED
END:VEVENT
BEGIN:VEVENT
UID:14d287faed8aa8a7b3716fcb9d5292c6@countylinechurch.org
DTSTAMP:20260423T104340Z
DTSTART:20260618T183000Z
DTEND:20260618T200000Z
SUMMARY:Grief Share
DESCRIPTION:GriefShare will meet every other Thursday evening at County Line Churchâ€
 ™s main campus.If you have any questions\, please contact Tina Stewart @
  tstewart@countylinechurch.org.&nbsp\;Please enter the doors under the C
 LSM sign (County Line Student Ministries).
LOCATION:Main\, 7716 North County Line Road E Auburn\, IN 46706
URL:https://countylinechurch.churchcenter.com/registrations/events/3165616/reservations/new
STATUS:CONFIRMED
END:VEVENT
END:VCALENDAR
